BEGIN:VCALENDAR
VERSION:2.0
PRODID:-//eventon.com NONSGML v1.0//EN
CALSCALE:GREGORIAN
METHOD:PUBLISH
BEGIN:VEVENT
UID:69e601adcfaef
DTSTAMP:20260420T103629Z
DTSTART:20220925T161600Z
DTEND:20220925T161600Z
LOCATION:
SUMMARY:Cocoon Festival
DESCRIPTION:Cocoon Festival\nhttps://bonzaiallstars.eu/events/cocoon-festiv
 al/
URL:https://bonzaiallstars.eu/events/cocoon-festival/
END:VEVENT
END:VCALENDAR